Index of /checkResults/devel/bioc-LATEST/SpatialFeatureExperiment/raw-results/kunpeng2
Name
Last modified
Size
Description
Parent Directory
-
buildsrc-out.txt
16-May-2024 02:46
947
buildsrc-summary.dcf
16-May-2024 02:46
478
install-out.txt
16-May-2024 02:46
1.6K
install-summary.dcf
16-May-2024 02:46
303