Name | Last modified | Size | Description | |
---|---|---|---|---|
Parent Directory | - | |||
buildbin-out.txt | 20-Jun-2024 01:12 | 1.8K | ||
buildbin-summary.dcf | 20-Jun-2024 01:12 | 629 | ||
buildsrc-out.txt | 20-Jun-2024 01:12 | 946 | ||
buildsrc-summary.dcf | 20-Jun-2024 01:12 | 476 | ||
checksrc-out.txt | 20-Jun-2024 01:12 | 5.6K | ||
checksrc-summary.dcf | 20-Jun-2024 01:12 | 514 | ||
install-out.txt | 20-Jun-2024 01:12 | 1.6K | ||
install-summary.dcf | 20-Jun-2024 01:12 | 302 | ||