Name | Last modified | Size | Description | |
---|---|---|---|---|
Parent Directory | - | |||
buildbin-out.txt | 17-Jul-2024 00:45 | 97K | ||
buildbin-summary.dcf | 17-Jul-2024 00:45 | 511 | ||
buildsrc-out.txt | 17-Jul-2024 00:45 | 870 | ||
buildsrc-summary.dcf | 17-Jul-2024 00:45 | 451 | ||
checksrc-out.txt | 17-Jul-2024 00:45 | 5.3K | ||
checksrc-summary.dcf | 17-Jul-2024 00:45 | 451 | ||
install-out.txt | 17-Jul-2024 00:45 | 97K | ||
install-summary.dcf | 17-Jul-2024 00:45 | 268 | ||