Name | Last modified | Size | Description | |
---|---|---|---|---|
Parent Directory | - | |||
install-summary.dcf | 17-Jul-2024 00:39 | 258 | ||
install-out.txt | 17-Jul-2024 00:39 | 72K | ||
checksrc-summary.dcf | 17-Jul-2024 00:39 | 418 | ||
checksrc-out.txt | 17-Jul-2024 00:39 | 4.4K | ||
buildsrc-summary.dcf | 17-Jul-2024 00:39 | 422 | ||
buildsrc-out.txt | 17-Jul-2024 00:39 | 859 | ||