Name | Last modified | Size | Description | |
---|---|---|---|---|
Parent Directory | - | |||
buildbin-out.txt | 17-Jul-2024 00:44 | 12K | ||
buildbin-summary.dcf | 17-Jul-2024 00:44 | 527 | ||
buildsrc-out.txt | 17-Jul-2024 00:44 | 845 | ||
buildsrc-summary.dcf | 17-Jul-2024 00:44 | 425 | ||
checksrc-out.txt | 17-Jul-2024 00:44 | 4.3K | ||
checksrc-summary.dcf | 17-Jul-2024 00:44 | 448 | ||
install-out.txt | 17-Jul-2024 00:44 | 9.9K | ||
install-summary.dcf | 17-Jul-2024 00:44 | 268 | ||