Index of /checkResults/devel/bioc-LATEST/SingleMoleculeFootprinting/raw-results/kunpeng2
Name
Last modified
Size
Description
Parent Directory
-
install-summary.dcf
16-May-2024 02:46
308
buildsrc-summary.dcf
16-May-2024 02:46
383
install-out.txt
16-May-2024 02:46
1.0K
buildsrc-out.txt
16-May-2024 02:46
1.2K