Name | Last modified | Size | Description | |
---|---|---|---|---|
Parent Directory | - | |||
checksrc-out.txt | 05-Jul-2024 00:45 | 3.7K | ||
checksrc-summary.dcf | 05-Jul-2024 00:45 | 409 | ||
install-out.txt | 06-Jul-2024 00:45 | 619 | ||
install-summary.dcf | 06-Jul-2024 00:45 | 251 | ||
buildsrc-out.txt | 06-Jul-2024 00:45 | 887 | ||
buildsrc-summary.dcf | 06-Jul-2024 00:45 | 322 | ||