Index of /checkResults/devel/bioc-LATEST/SVMDO/raw-results/lconway
Name
Last modified
Size
Description
Parent Directory
-
buildsrc-out.txt
21-Jun-2024 01:15
1.6K
buildsrc-summary.dcf
21-Jun-2024 01:15
338
install-out.txt
21-Jun-2024 01:15
1.4K
install-summary.dcf
21-Jun-2024 01:15
267