Index of /checkResults/devel/bioc-LATEST/SPLINTER/raw-results/kjohnson3
Name
Last modified
Size
Description
Parent Directory
-
install-summary.dcf
06-Jul-2024 00:44
271
buildsrc-summary.dcf
06-Jul-2024 00:44
345
install-out.txt
06-Jul-2024 00:44
1.0K
buildsrc-out.txt
06-Jul-2024 00:44
1.4K