Name | Last modified | Size | Description | |
---|---|---|---|---|
Parent Directory | - | |||
install-summary.dcf | 06-Jul-2024 00:45 | 246 | ||
install-out.txt | 06-Jul-2024 00:45 | 1.0K | ||
checksrc-summary.dcf | 06-Jul-2024 00:45 | 403 | ||
checksrc-out.txt | 06-Jul-2024 00:45 | 3.9K | ||
buildsrc-summary.dcf | 06-Jul-2024 00:45 | 404 | ||
buildsrc-out.txt | 06-Jul-2024 00:45 | 793 | ||