Index of /checkResults/devel/bioc-LATEST/SGCP/raw-results/palomino4
Name
Last modified
Size
Description
Parent Directory
-
buildsrc-out.txt
12-Jun-2024 04:41
1.1K
buildsrc-summary.dcf
12-Jun-2024 04:41
359
install-out.txt
12-Jun-2024 04:41
962
install-summary.dcf
12-Jun-2024 04:41
261