Index of /checkResults/devel/bioc-LATEST/SGCP/raw-results/nebbiolo2
Name
Last modified
Size
Description
Parent Directory
-
buildsrc-out.txt
27-Jun-2024 00:37
1.1K
buildsrc-summary.dcf
27-Jun-2024 00:37
332
install-out.txt
27-Jun-2024 00:37
951
install-summary.dcf
27-Jun-2024 00:37
252