Index of /checkResults/devel/bioc-LATEST/Risa/raw-results/merida1
Name
Last modified
Size
Description
Parent Directory
-
install-summary.dcf
12-Jun-2024 04:42
263
buildsrc-summary.dcf
12-Jun-2024 04:42
338
install-out.txt
12-Jun-2024 04:42
1.0K
buildsrc-out.txt
12-Jun-2024 04:42
2.1K