Name | Last modified | Size | Description | |
---|---|---|---|---|
Parent Directory | - | |||
install-summary.dcf | 07-Jul-2024 00:45 | 241 | ||
install-out.txt | 07-Jul-2024 00:45 | 925 | ||
checksrc-summary.dcf | 09-Jul-2024 00:45 | 397 | ||
checksrc-out.txt | 09-Jul-2024 00:45 | 7.8K | ||
buildsrc-summary.dcf | 09-Jul-2024 00:45 | 397 | ||
buildsrc-out.txt | 09-Jul-2024 00:45 | 782 | ||