Index of /checkResults/devel/bioc-LATEST/Risa/raw-results/kjohnson3
Name
Last modified
Size
Description
Parent Directory
-
buildsrc-out.txt
17-Jul-2024 00:44
2.1K
buildsrc-summary.dcf
17-Jul-2024 00:44
337
install-out.txt
17-Jul-2024 00:44
1.0K
install-summary.dcf
17-Jul-2024 00:44
263