Index of /checkResults/devel/bioc-LATEST/Risa/raw-results/kjohnson1
Name
Last modified
Size
Description
Parent Directory
-
buildsrc-out.txt
12-Jun-2024 04:43
2.1K
buildsrc-summary.dcf
12-Jun-2024 04:43
337
install-out.txt
12-Jun-2024 04:43
1.0K
install-summary.dcf
12-Jun-2024 04:43
263