Name | Last modified | Size | Description | |
---|---|---|---|---|
Parent Directory | - | |||
install-summary.dcf | 12-Jun-2024 04:42 | 268 | ||
install-out.txt | 12-Jun-2024 04:42 | 22K | ||
buildsrc-out.txt | 12-Jun-2024 04:42 | 930 | ||
buildsrc-summary.dcf | 12-Jun-2024 04:42 | 423 | ||
checksrc-out.txt | 12-Jun-2024 04:42 | 4.5K | ||
checksrc-summary.dcf | 12-Jun-2024 04:42 | 445 | ||
buildbin-summary.dcf | 12-Jun-2024 04:42 | 524 | ||
buildbin-out.txt | 12-Jun-2024 04:42 | 24K | ||