Name | Last modified | Size | Description | |
---|---|---|---|---|
Parent Directory | - | |||
install-summary.dcf | 06-Jul-2024 00:42 | 268 | ||
install-out.txt | 06-Jul-2024 00:42 | 22K | ||
checksrc-summary.dcf | 06-Jul-2024 00:42 | 445 | ||
checksrc-out.txt | 06-Jul-2024 00:42 | 4.4K | ||
buildsrc-summary.dcf | 06-Jul-2024 00:42 | 423 | ||
buildsrc-out.txt | 06-Jul-2024 00:42 | 930 | ||
buildbin-summary.dcf | 06-Jul-2024 00:42 | 524 | ||
buildbin-out.txt | 06-Jul-2024 00:42 | 25K | ||