Name | Last modified | Size | Description | |
---|---|---|---|---|
Parent Directory | - | |||
checksrc-summary.dcf | 06-Jul-2024 00:44 | 416 | ||
checksrc-out.txt | 06-Jul-2024 00:44 | 1.5K | ||
buildsrc-summary.dcf | 06-Jul-2024 00:44 | 410 | ||
buildsrc-out.txt | 06-Jul-2024 00:44 | 895 | ||
install-out.txt | 06-Jul-2024 00:44 | 2.4K | ||
install-summary.dcf | 06-Jul-2024 00:44 | 251 | ||