Index of /checkResults/devel/bioc-LATEST/RNAinteract/raw-results/palomino8
Name
Last modified
Size
Description
Parent Directory
-
buildsrc-summary.dcf
18-Jul-2024 00:40
379
buildsrc-out.txt
18-Jul-2024 00:40
952
install-summary.dcf
18-Jul-2024 00:40
278
install-out.txt
18-Jul-2024 00:40
631