Index of /checkResults/devel/bioc-LATEST/RNAinteract/raw-results/merida1
Name
Last modified
Size
Description
Parent Directory
-
buildsrc-out.txt
12-Jun-2024 04:42
912
buildsrc-summary.dcf
12-Jun-2024 04:42
350
install-out.txt
12-Jun-2024 04:42
708
install-summary.dcf
12-Jun-2024 04:42
279