Index of /checkResults/devel/bioc-LATEST/RNAinteract/raw-results/lconway
Name
Last modified
Size
Description
Parent Directory
-
install-summary.dcf
29-Jun-2024 00:40
279
buildsrc-summary.dcf
29-Jun-2024 00:40
350
install-out.txt
29-Jun-2024 00:40
708
buildsrc-out.txt
29-Jun-2024 00:40
911