Index of /checkResults/devel/bioc-LATEST/RNAinteract/raw-results/kjohnson3
Name
Last modified
Size
Description
Parent Directory
-
install-summary.dcf
29-Jun-2024 00:41
279
install-out.txt
29-Jun-2024 00:41
706
buildsrc-out.txt
29-Jun-2024 00:41
955
buildsrc-summary.dcf
29-Jun-2024 00:41
350