Name | Last modified | Size | Description | |
---|---|---|---|---|
Parent Directory | - | |||
install-summary.dcf | 16-May-2024 02:46 | 264 | ||
install-out.txt | 16-May-2024 02:46 | 957 | ||
checksrc-summary.dcf | 16-May-2024 02:46 | 438 | ||
checksrc-out.txt | 16-May-2024 02:46 | 3.2K | ||
buildsrc-summary.dcf | 16-May-2024 02:46 | 416 | ||
buildsrc-out.txt | 16-May-2024 02:46 | 805 | ||