Name | Last modified | Size | Description | |
---|---|---|---|---|
Parent Directory | - | |||
info.dcf | 29-Jun-2024 00:37 | 263 | ||
palomino6/ | 29-Jun-2024 00:38 | - | ||
palomino4/ | 12-Jun-2024 04:41 | - | ||
nebbiolo2/ | 29-Jun-2024 00:38 | - | ||
merida1/ | 12-Jun-2024 04:42 | - | ||
lconway/ | 29-Jun-2024 00:40 | - | ||
kunpeng2/ | 16-May-2024 02:46 | - | ||
kjohnson3/ | 29-Jun-2024 00:41 | - | ||
kjohnson1/ | 12-Jun-2024 04:43 | - | ||