Index of /checkResults/devel/bioc-LATEST/REMP/raw-results/kunpeng2
Name
Last modified
Size
Description
Parent Directory
-
install-summary.dcf
16-May-2024 02:46
264
install-out.txt
16-May-2024 02:46
1.0K
buildsrc-summary.dcf
16-May-2024 02:46
339
buildsrc-out.txt
16-May-2024 02:46
5.4K