Name | Last modified | Size | Description | |
---|---|---|---|---|
Parent Directory | - | |||
buildbin-summary.dcf | 12-Jun-2024 04:41 | 504 | ||
buildbin-out.txt | 12-Jun-2024 04:41 | 11K | ||
checksrc-out.txt | 12-Jun-2024 04:41 | 5.8K | ||
checksrc-summary.dcf | 12-Jun-2024 04:41 | 446 | ||
buildsrc-summary.dcf | 12-Jun-2024 04:41 | 444 | ||
buildsrc-out.txt | 12-Jun-2024 04:41 | 930 | ||
install-summary.dcf | 12-Jun-2024 04:41 | 265 | ||
install-out.txt | 12-Jun-2024 04:41 | 11K | ||