Name | Last modified | Size | Description | |
---|---|---|---|---|
Parent Directory | - | |||
checksrc-out.txt | 29-Jun-2024 00:38 | 5.2K | ||
checksrc-summary.dcf | 29-Jun-2024 00:38 | 412 | ||
buildsrc-summary.dcf | 29-Jun-2024 00:38 | 418 | ||
buildsrc-out.txt | 29-Jun-2024 00:38 | 924 | ||
install-summary.dcf | 29-Jun-2024 00:38 | 255 | ||
install-out.txt | 29-Jun-2024 00:38 | 6.6K | ||