Name | Last modified | Size | Description | |
---|---|---|---|---|
Parent Directory | - | |||
buildbin-summary.dcf | 29-Jun-2024 00:41 | 518 | ||
buildbin-out.txt | 29-Jun-2024 00:41 | 11K | ||
checksrc-summary.dcf | 29-Jun-2024 00:41 | 442 | ||
checksrc-out.txt | 29-Jun-2024 00:41 | 5.3K | ||
buildsrc-summary.dcf | 29-Jun-2024 00:41 | 422 | ||
buildsrc-out.txt | 29-Jun-2024 00:41 | 910 | ||
install-out.txt | 29-Jun-2024 00:41 | 9.1K | ||
install-summary.dcf | 29-Jun-2024 00:41 | 265 | ||