Name | Last modified | Size | Description | |
---|---|---|---|---|
Parent Directory | - | |||
buildbin-out.txt | 17-Jul-2024 00:42 | 1.2K | ||
buildbin-summary.dcf | 17-Jul-2024 00:42 | 511 | ||
buildsrc-out.txt | 17-Jul-2024 00:42 | 804 | ||
buildsrc-summary.dcf | 17-Jul-2024 00:42 | 417 | ||
checksrc-out.txt | 17-Jul-2024 00:42 | 16K | ||
checksrc-summary.dcf | 17-Jul-2024 00:42 | 432 | ||
install-out.txt | 17-Jul-2024 00:42 | 1.0K | ||
install-summary.dcf | 17-Jul-2024 00:42 | 262 | ||