Name | Last modified | Size | Description | |
---|---|---|---|---|
Parent Directory | - | |||
install-out.txt | 07-Jul-2024 00:44 | 1.0K | ||
install-summary.dcf | 07-Jul-2024 00:44 | 240 | ||
buildsrc-out.txt | 09-Jul-2024 00:45 | 782 | ||
buildsrc-summary.dcf | 09-Jul-2024 00:45 | 396 | ||
checksrc-summary.dcf | 09-Jul-2024 00:45 | 393 | ||
checksrc-out.txt | 09-Jul-2024 00:45 | 16K | ||