Name | Last modified | Size | Description | |
---|---|---|---|---|
Parent Directory | - | |||
install-out.txt | 12-Jun-2024 04:43 | 1.0K | ||
install-summary.dcf | 12-Jun-2024 04:43 | 262 | ||
buildsrc-out.txt | 12-Jun-2024 04:43 | 804 | ||
buildsrc-summary.dcf | 12-Jun-2024 04:43 | 418 | ||
checksrc-summary.dcf | 12-Jun-2024 04:43 | 432 | ||
checksrc-out.txt | 12-Jun-2024 04:43 | 16K | ||
buildbin-out.txt | 12-Jun-2024 04:43 | 1.2K | ||
buildbin-summary.dcf | 12-Jun-2024 04:43 | 511 | ||