Name | Last modified | Size | Description | |
---|---|---|---|---|
Parent Directory | - | |||
buildsrc-out.txt | 27-Jun-2024 00:37 | 818 | ||
buildsrc-summary.dcf | 27-Jun-2024 00:37 | 415 | ||
checksrc-out.txt | 27-Jun-2024 00:37 | 6.3K | ||
checksrc-summary.dcf | 27-Jun-2024 00:37 | 408 | ||
install-out.txt | 27-Jun-2024 00:37 | 4.7K | ||
install-summary.dcf | 27-Jun-2024 00:37 | 253 | ||