Name | Last modified | Size | Description | |
---|---|---|---|---|
Parent Directory | - | |||
buildsrc-out.txt | 28-Jun-2024 00:37 | 830 | ||
buildsrc-summary.dcf | 28-Jun-2024 00:37 | 424 | ||
checksrc-out.txt | 28-Jun-2024 00:37 | 6.0K | ||
checksrc-summary.dcf | 28-Jun-2024 00:37 | 414 | ||
install-out.txt | 28-Jun-2024 00:37 | 952 | ||
install-summary.dcf | 28-Jun-2024 00:37 | 259 | ||