Index of /checkResults/devel/bioc-LATEST/NeuCA/raw-results/kjohnson1
Name
Last modified
Size
Description
Parent Directory
-
install-summary.dcf
12-Jun-2024 04:43
265
buildsrc-summary.dcf
12-Jun-2024 04:43
339
install-out.txt
12-Jun-2024 04:43
1.0K
buildsrc-out.txt
12-Jun-2024 04:43
9.0K