Name | Last modified | Size | Description | |
---|---|---|---|---|
Parent Directory | - | |||
buildbin-out.txt | 12-Jun-2024 04:40 | 6.6K | ||
buildbin-summary.dcf | 12-Jun-2024 04:40 | 537 | ||
buildsrc-out.txt | 12-Jun-2024 04:40 | 890 | ||
buildsrc-summary.dcf | 12-Jun-2024 04:40 | 467 | ||
checksrc-out.txt | 12-Jun-2024 04:40 | 5.2K | ||
checksrc-summary.dcf | 12-Jun-2024 04:40 | 461 | ||
install-out.txt | 12-Jun-2024 04:40 | 6.4K | ||
install-summary.dcf | 12-Jun-2024 04:40 | 276 | ||