Name | Last modified | Size | Description | |
---|---|---|---|---|
Parent Directory | - | |||
buildbin-summary.dcf | 17-Jul-2024 00:42 | 551 | ||
buildbin-out.txt | 17-Jul-2024 00:42 | 5.3K | ||
checksrc-summary.dcf | 17-Jul-2024 00:42 | 458 | ||
checksrc-out.txt | 17-Jul-2024 00:42 | 4.5K | ||
buildsrc-summary.dcf | 17-Jul-2024 00:42 | 438 | ||
buildsrc-out.txt | 17-Jul-2024 00:42 | 861 | ||
install-summary.dcf | 17-Jul-2024 00:42 | 276 | ||
install-out.txt | 17-Jul-2024 00:42 | 3.0K | ||