Name | Last modified | Size | Description | |
---|---|---|---|---|
Parent Directory | - | |||
install-summary.dcf | 12-Jun-2024 04:42 | 279 | ||
install-out.txt | 12-Jun-2024 04:42 | 1.0K | ||
checksrc-summary.dcf | 05-Jun-2024 03:35 | 463 | ||
checksrc-out.txt | 05-Jun-2024 03:35 | 4.2K | ||
buildsrc-summary.dcf | 12-Jun-2024 04:42 | 353 | ||
buildsrc-out.txt | 12-Jun-2024 04:42 | 1.9K | ||
buildbin-summary.dcf | 05-Jun-2024 03:35 | 558 | ||
buildbin-out.txt | 05-Jun-2024 03:35 | 1.2K | ||