Name | Last modified | Size | Description | |
---|---|---|---|---|
Parent Directory | - | |||
buildbin-out.txt | 12-Jun-2024 04:42 | 1.3K | ||
buildbin-summary.dcf | 12-Jun-2024 04:42 | 608 | ||
buildsrc-out.txt | 12-Jun-2024 04:42 | 931 | ||
buildsrc-summary.dcf | 12-Jun-2024 04:42 | 466 | ||
checksrc-out.txt | 12-Jun-2024 04:42 | 3.5K | ||
checksrc-summary.dcf | 12-Jun-2024 04:42 | 496 | ||
install-out.txt | 12-Jun-2024 04:42 | 1.0K | ||
install-summary.dcf | 12-Jun-2024 04:42 | 295 | ||