Name | Last modified | Size | Description | |
---|---|---|---|---|
Parent Directory | - | |||
checksrc-out.txt | 09-Jul-2024 00:44 | 3.4K | ||
buildbin-out.txt | 09-Jul-2024 00:44 | 1.3K | ||
install-out.txt | 09-Jul-2024 00:44 | 1.0K | ||
buildsrc-out.txt | 09-Jul-2024 00:44 | 931 | ||
buildbin-summary.dcf | 09-Jul-2024 00:44 | 608 | ||
checksrc-summary.dcf | 09-Jul-2024 00:44 | 496 | ||
buildsrc-summary.dcf | 09-Jul-2024 00:44 | 466 | ||
install-summary.dcf | 09-Jul-2024 00:44 | 295 | ||