Name | Last modified | Size | Description | |
---|---|---|---|---|
Parent Directory | - | |||
install-summary.dcf | 09-Jul-2024 00:44 | 278 | ||
buildsrc-summary.dcf | 09-Jul-2024 00:44 | 439 | ||
checksrc-summary.dcf | 09-Jul-2024 00:44 | 468 | ||
buildbin-summary.dcf | 09-Jul-2024 00:44 | 557 | ||
buildsrc-out.txt | 09-Jul-2024 00:44 | 875 | ||
install-out.txt | 09-Jul-2024 00:44 | 1.0K | ||
buildbin-out.txt | 09-Jul-2024 00:44 | 1.2K | ||
checksrc-out.txt | 09-Jul-2024 00:44 | 3.7K | ||