Name | Last modified | Size | Description | |
---|---|---|---|---|
Parent Directory | - | |||
buildsrc-out.txt | 09-Jul-2024 00:45 | 913 | ||
buildsrc-summary.dcf | 09-Jul-2024 00:45 | 418 | ||
checksrc-out.txt | 09-Jul-2024 00:45 | 3.2K | ||
checksrc-summary.dcf | 09-Jul-2024 00:45 | 424 | ||
install-out.txt | 07-Jul-2024 00:44 | 969 | ||
install-summary.dcf | 07-Jul-2024 00:44 | 257 | ||