Name | Last modified | Size | Description | |
---|---|---|---|---|
Parent Directory | - | |||
install-summary.dcf | 06-Jul-2024 00:39 | 256 | ||
install-out.txt | 06-Jul-2024 00:39 | 949 | ||
checksrc-summary.dcf | 06-Jul-2024 00:39 | 409 | ||
checksrc-out.txt | 06-Jul-2024 00:39 | 6.0K | ||
buildsrc-summary.dcf | 06-Jul-2024 00:39 | 419 | ||
buildsrc-out.txt | 06-Jul-2024 00:39 | 826 | ||