Name | Last modified | Size | Description | |
---|---|---|---|---|
Parent Directory | - | |||
install-summary.dcf | 13-Jul-2024 01:30 | 255 | ||
install-out.txt | 13-Jul-2024 01:30 | 1.0K | ||
checksrc-summary.dcf | 11-Jul-2024 01:07 | 410 | ||
checksrc-out.txt | 11-Jul-2024 01:07 | 13K | ||
buildsrc-summary.dcf | 13-Jul-2024 01:30 | 336 | ||
buildsrc-out.txt | 13-Jul-2024 01:30 | 7.3K | ||