Index of /checkResults/devel/bioc-LATEST/MMDiff2/raw-results/kjohnson1
Name
Last modified
Size
Description
Parent Directory
-
install-summary.dcf
12-Jun-2024 04:43
269
buildsrc-summary.dcf
12-Jun-2024 04:43
344
install-out.txt
12-Jun-2024 04:43
1.0K
buildsrc-out.txt
12-Jun-2024 04:43
1.4K