Name | Last modified | Size | Description | |
---|---|---|---|---|
Parent Directory | - | |||
buildsrc-out.txt | 21-Jun-2024 01:14 | 881 | ||
buildsrc-summary.dcf | 21-Jun-2024 01:14 | 413 | ||
checksrc-out.txt | 21-Jun-2024 01:14 | 13K | ||
checksrc-summary.dcf | 21-Jun-2024 01:14 | 401 | ||
install-out.txt | 21-Jun-2024 01:14 | 951 | ||
install-summary.dcf | 21-Jun-2024 01:14 | 252 | ||