Name | Last modified | Size | Description | |
---|---|---|---|---|
Parent Directory | - | |||
install-summary.dcf | 29-Jun-2024 00:37 | 258 | ||
checksrc-summary.dcf | 29-Jun-2024 00:37 | 412 | ||
buildsrc-summary.dcf | 29-Jun-2024 00:37 | 420 | ||
buildsrc-out.txt | 29-Jun-2024 00:37 | 829 | ||
install-out.txt | 29-Jun-2024 00:37 | 3.1K | ||
checksrc-out.txt | 29-Jun-2024 00:37 | 6.5K | ||