Name | Last modified | Size | Description | |
---|---|---|---|---|
Parent Directory | - | |||
buildsrc-out.txt | 06-Jul-2024 00:39 | 877 | ||
buildsrc-summary.dcf | 06-Jul-2024 00:39 | 408 | ||
checksrc-out.txt | 06-Jul-2024 00:39 | 3.5K | ||
checksrc-summary.dcf | 06-Jul-2024 00:39 | 397 | ||
install-out.txt | 06-Jul-2024 00:39 | 940 | ||
install-summary.dcf | 06-Jul-2024 00:39 | 250 | ||