Name | Last modified | Size | Description | |
---|---|---|---|---|
Parent Directory | - | |||
install-summary.dcf | 06-Jul-2024 00:39 | 269 | ||
install-out.txt | 06-Jul-2024 00:39 | 1.0K | ||
checksrc-summary.dcf | 06-Jul-2024 00:39 | 433 | ||
checksrc-out.txt | 06-Jul-2024 00:39 | 3.6K | ||
buildsrc-summary.dcf | 06-Jul-2024 00:39 | 437 | ||
buildsrc-out.txt | 06-Jul-2024 00:39 | 850 | ||