Name | Last modified | Size | Description | |
---|---|---|---|---|
Parent Directory | - | |||
install-summary.dcf | 27-Jun-2024 00:38 | 278 | ||
install-out.txt | 27-Jun-2024 00:38 | 60K | ||
checksrc-summary.dcf | 27-Jun-2024 00:38 | 460 | ||
checksrc-out.txt | 27-Jun-2024 00:38 | 5.3K | ||
buildsrc-summary.dcf | 27-Jun-2024 00:38 | 440 | ||
buildsrc-out.txt | 27-Jun-2024 00:38 | 925 | ||
buildbin-summary.dcf | 27-Jun-2024 00:38 | 554 | ||
buildbin-out.txt | 27-Jun-2024 00:38 | 62K | ||